BEGIN:VCALENDAR
VERSION:2.0
PRODID:-//Triathlonsuche - Triathlontermine 2025 und 2026 finden - ECPv6.14.0//NONSGML v1.0//EN
CALSCALE:GREGORIAN
METHOD:PUBLISH
X-ORIGINAL-URL:https://triathlonsuche.de
X-WR-CALDESC:Veranstaltungen für Triathlonsuche - Triathlontermine 2025 und 2026 finden
REFRESH-INTERVAL;VALUE=DURATION:PT1H
X-Robots-Tag:noindex
X-PUBLISHED-TTL:PT1H
BEGIN:VTIMEZONE
TZID:UTC
BEGIN:STANDARD
TZOFFSETFROM:+0000
TZOFFSETTO:+0000
TZNAME:UTC
DTSTART:20250101T000000
END:STANDARD
END:VTIMEZONE
BEGIN:VEVENT
DTSTART;VALUE=DATE:20250907
DTEND;VALUE=DATE:20250908
DTSTAMP:20260424T085439
CREATED:20250305T131844Z
LAST-MODIFIED:20250305T131844Z
UID:610-1757203200-1757289599@triathlonsuche.de
SUMMARY:Ironman 70.3 Duisburg
DESCRIPTION:Ironman 70.3 Duisburg findet am 07.09.2025 statt \nswim: geschwommen wird im auf der Regattabahn im Duisburger Innenhafen \nbike: die Radstrecke umfasst zwei Runden mit insgesamt 236 Höhenmetern \nrun: die Laufstrecke wurde zur 3 schönsten Laufstrecke in Europa bei einem 70.3 Rennen gewählt und umfasst 25 Höhenmeter \nDer 70.3 Ironman Duisburg bietet beste Voraussetzungen für deinen persönliche Bestzeit. \nBei der Veranstaltung kannst du dich für die 70.3 Wm 2026 in Canada qualifizieren.
URL:https://triathlonsuche.de/triathlonttermine/ironman-70-3-duisburg/
LOCATION:Duisburg\, NRW\, Germany
CATEGORIES:Ironman 70.3 / Mitteldistanz
ATTACH;FMTTYPE=image/webp:https://triathlonsuche.de/wp-content/uploads/2025/03/703_IRONMAN_Duisburg_Logo_pos.png.webp
END:VEVENT
END:VCALENDAR