BEGIN:VCALENDAR
VERSION:2.0
PRODID:-//Triathlonsuche - Triathlontermine 2025 und 2026 finden - ECPv6.14.0//NONSGML v1.0//EN
CALSCALE:GREGORIAN
METHOD:PUBLISH
X-WR-CALNAME:Triathlonsuche - Triathlontermine 2025 und 2026 finden
X-ORIGINAL-URL:https://triathlonsuche.de
X-WR-CALDESC:Veranstaltungen für Triathlonsuche - Triathlontermine 2025 und 2026 finden
REFRESH-INTERVAL;VALUE=DURATION:PT1H
X-Robots-Tag:noindex
X-PUBLISHED-TTL:PT1H
BEGIN:VTIMEZONE
TZID:UTC
BEGIN:STANDARD
TZOFFSETFROM:+0000
TZOFFSETTO:+0000
TZNAME:UTC
DTSTART:20250101T000000
END:STANDARD
END:VTIMEZONE
BEGIN:VEVENT
DTSTART;VALUE=DATE:20250914
DTEND;VALUE=DATE:20250915
DTSTAMP:20260425T151039
CREATED:20241016T170521Z
LAST-MODIFIED:20241120T075044Z
UID:56-1757808000-1757894399@triathlonsuche.de
SUMMARY:Ironman Hawaii 2025 WM der Frauen
DESCRIPTION:Ironman Triathlon WM der Frauen auf Hawaii – der Traum aller Alterklassenathleten. \nKann Laura Philipp ihren Ironmantitel von 2024 in Nizza verteidigen oder schafft Anne Haug nach 2019 den Titel erneut auf Hawaii holen \nNach dem Schwimmstart im Pier von Kailua-Kona geht es auf dem Ali Drive Richtung Hawi. Nach dem langen Anstieg nach Hawi erfolgt der Wendepunkt und es geht zurück Richtung Kailua-Kona. \nDie berüchtigte Laufstrecke geht entlang der Radstrecke und anschließend ins Energy Lap. Danach zurück Richtung Schwimmstart. Dort ist auch das Ziel. \nswim: 1 Runde im Pier von Kailua-Kona \nbike: 1 Runde mit 1772 Hm \nrun: 1 Runde mit 307 Hm \nDas Schwimmen kann\, je nach Wellengang\, schon mal recht unangenehm werden. Die Radstrecke ist für einen Ironman sehr wellig. Die Laufstrecke durchs Energy Lab gibt dir den Rest. Aber wenn du hier bist\, dann hast du es schon fast geschafft. \nIronman wechselt jedes Jahr die WM auf Hawaii zwischen den Männern und den Frauen. Dies findet nicht bei allen Athelten auf Zustimmung. \nPatrick Lange gewann 2024 den Ironman Hawaii nach einer fulminaten Aufholjagd auf der Laufstrecke. \nDie Slotverteilung der einzelnen Ironmanrennen findet ihr hier
URL:https://triathlonsuche.de/triathlonttermine/ironman-hawaii/
LOCATION:Kailua-Kona\, Kailua-Kona\, United States
CATEGORIES:Langistanz / Ironman
ATTACH;FMTTYPE=image/webp:https://triathlonsuche.de/wp-content/uploads/2024/10/CROP_IRONMAN_WC_Events_-Primary_Core_Logo_large.webp
END:VEVENT
END:VCALENDAR