BEGIN:VCALENDAR
VERSION:2.0
PRODID:-//Triathlonsuche - Triathlontermine 2025 und 2026 finden - ECPv6.14.0//NONSGML v1.0//EN
CALSCALE:GREGORIAN
METHOD:PUBLISH
X-ORIGINAL-URL:https://triathlonsuche.de
X-WR-CALDESC:Veranstaltungen für Triathlonsuche - Triathlontermine 2025 und 2026 finden
REFRESH-INTERVAL;VALUE=DURATION:PT1H
X-Robots-Tag:noindex
X-PUBLISHED-TTL:PT1H
BEGIN:VTIMEZONE
TZID:UTC
BEGIN:STANDARD
TZOFFSETFROM:+0000
TZOFFSETTO:+0000
TZNAME:UTC
DTSTART:20250101T000000
END:STANDARD
END:VTIMEZONE
BEGIN:VEVENT
DTSTART;VALUE=DATE:20250823
DTEND;VALUE=DATE:20250824
DTSTAMP:20260422T094126
CREATED:20250617T095840Z
LAST-MODIFIED:20250617T095840Z
UID:628-1755907200-1755993599@triathlonsuche.de
SUMMARY:Ironman Tallinn Estonia 2025
DESCRIPTION:Beim Ironman Tallin in Estonia sind Bestzeiten vorprogrammiert. \nswim: 2 Runden am Strand von Stroomi Beach \nbike: 1 Runde + 3 Schleifen auf der des insgesamt 570 Hm zu überwinden gilt. Details: bike course \nrun: 4 Runden auf der flachen Strecke an der Küste entlang. Insgesamt sind 40 Hm vorhanden. Details: run course \n 
URL:https://triathlonsuche.de/triathlonttermine/ironman-tallinn-estonia-2025/
LOCATION:Tallinn\, Estonia
CATEGORIES:Langistanz / Ironman
ATTACH;FMTTYPE=image/webp:https://triathlonsuche.de/wp-content/uploads/2025/06/IRONMAN_Tallinn_Event-Logo_Reversed.png.webp
END:VEVENT
END:VCALENDAR