BEGIN:VCALENDAR
VERSION:2.0
PRODID:-//Triathlonsuche - Triathlontermine 2025 und 2026 finden - ECPv6.14.0//NONSGML v1.0//EN
CALSCALE:GREGORIAN
METHOD:PUBLISH
X-WR-CALNAME:Triathlonsuche - Triathlontermine 2025 und 2026 finden
X-ORIGINAL-URL:https://triathlonsuche.de
X-WR-CALDESC:Veranstaltungen für Triathlonsuche - Triathlontermine 2025 und 2026 finden
REFRESH-INTERVAL;VALUE=DURATION:PT1H
X-Robots-Tag:noindex
X-PUBLISHED-TTL:PT1H
BEGIN:VTIMEZONE
TZID:UTC
BEGIN:STANDARD
TZOFFSETFROM:+0000
TZOFFSETTO:+0000
TZNAME:UTC
DTSTART:20260101T000000
END:STANDARD
END:VTIMEZONE
BEGIN:VEVENT
DTSTART;VALUE=DATE:20260607
DTEND;VALUE=DATE:20260608
DTSTAMP:20260425T103200
CREATED:20241017T115622Z
LAST-MODIFIED:20250605T104854Z
UID:143-1780790400-1780876799@triathlonsuche.de
SUMMARY:Ironman Hamburg 2026
DESCRIPTION:Geschwommen wird in der Binnen-und Außenalster mit einem kurzen Landgang dazwischen. \nDie 180 km Radstrecke geht über 2 Runden und hat insgesamt 300 Hm. \nDer abschließende Marathon geht über 4 Runden durch die Hamburger Innenstadt entlang der Außenalster und hat 20Hm.
URL:https://triathlonsuche.de/triathlonttermine/ironman-hamburg-euopameisterschaft/
LOCATION:Hamburg\, Hamburg\, Hamburg\, Germany
CATEGORIES:Langistanz / Ironman
ATTACH;FMTTYPE=image/webp:https://triathlonsuche.de/wp-content/uploads/2024/10/IRONMAN_Hamburg_European_Championship_logo.webp
END:VEVENT
END:VCALENDAR