BEGIN:VCALENDAR
VERSION:2.0
PRODID:-//Triathlonsuche - Triathlontermine 2025 und 2026 finden - ECPv6.14.0//NONSGML v1.0//EN
CALSCALE:GREGORIAN
METHOD:PUBLISH
X-WR-CALNAME:Triathlonsuche - Triathlontermine 2025 und 2026 finden
X-ORIGINAL-URL:https://triathlonsuche.de
X-WR-CALDESC:Veranstaltungen für Triathlonsuche - Triathlontermine 2025 und 2026 finden
REFRESH-INTERVAL;VALUE=DURATION:PT1H
X-Robots-Tag:noindex
X-PUBLISHED-TTL:PT1H
BEGIN:VTIMEZONE
TZID:UTC
BEGIN:STANDARD
TZOFFSETFROM:+0000
TZOFFSETTO:+0000
TZNAME:UTC
DTSTART:20250101T000000
END:STANDARD
END:VTIMEZONE
BEGIN:VEVENT
DTSTART;TZID=UTC:20250801T080000
DTEND;TZID=UTC:20250803T170000
DTSTAMP:20260425T181429
CREATED:20241124T121055Z
LAST-MODIFIED:20241124T121700Z
UID:539-1754035200-1754240400@triathlonsuche.de
SUMMARY:32. Triple & 4. Double Ultra Triathlon Lensahn
DESCRIPTION:Für alle Extrem Triathleten bietet der 32. Triple Triathlon oder der 4. Double Triathlon alles\, was es für eine persönliche Extremsportherausforderung benötigt. \nStreckeninfos für die 3. fache Ironmandistanz:\nDistanzen:\nSchwimmen: 7\,6 km (152 Bahnen)\nCut-off Freitag\, 15.30 Uhr \nFahrrad: 360 km (45 Runden)\nCut-off Samstag\, 10.00 Uhr \nLaufen: 84\,4 km (66 Runden)\nCut-off Samstag\, 22.00 Uhr\n \nZeitlimit: 34 Stunden\nStreckeninfos für die 3. fache Ironmandistanz:\nDistanzen:\nSchwimmen: 11\,4 km (228 Bahnen in einem 50m-Schwimmbecken)\nCut-off: Freitag\, 13.00 Uhr \nFahrrad: 540 km (68 Runden)\nCut-off: Samstag\, 17.00 Uhr \nLaufen: 126\,6 km  (98 Runden)\nCut-off: Sonntag\, 17.00 Uhr \nZeitlimit: 58 Stunden\n 
URL:https://triathlonsuche.de/triathlonttermine/32-triple-4-double-triathlon-lensahn/
LOCATION:Lensahn\, Schleswig-Holstein\, 23735\, Germany
CATEGORIES:Ultra Triathlon
ATTACH;FMTTYPE=image/png:https://triathlonsuche.de/wp-content/uploads/2024/11/android-icon-144x144-1.png
END:VEVENT
END:VCALENDAR